BEGIN:VCALENDAR
VERSION:2.0
PRODID:spatie/icalendar-generator
DESCRIPTION:Events from Encore Briar Chapel
X-WR-CALDESC:Events from Encore Briar Chapel
REFRESH-INTERVAL;VALUE=DURATION:PT1440M
X-PUBLISHED-TTL:PT1440M
BEGIN:VTIMEZONE
TZID:America/New_York
BEGIN:STANDARD
DTSTART:20231105T020000Z
TZOFFSETFROM:-0400
TZOFFSETTO:-0500
END:STANDARD
BEGIN:DAYLIGHT
DTSTART:20240310T020000Z
TZOFFSETFROM:-0500
TZOFFSETTO:-0400
END:DAYLIGHT
END:VTIMEZONE
BEGIN:VTIMEZONE
TZID:UTC
BEGIN:STANDARD
DTSTART:20250726T175113Z
TZOFFSETFROM:+0000
TZOFFSETTO:+0000
END:STANDARD
END:VTIMEZONE
BEGIN:VEVENT
UID:1473-199
DTSTAMP:20260422T175113Z
SUMMARY:Social Committee Meeting
LOCATION:
ORGANIZER;CN=karenpullen:MAILTO:karen@karenpullen.com
RRULE:FREQ=MONTHLY;BYDAY=3TU;UNTIL=20250128T000000Z
DTSTART;TZID=America/New_York:20240116T160000
DTEND;TZID=America/New_York:20240116T170000
X-ALT-DESC;FMTTYPE=TEXT/HTML:3rd Tuesday at 4 PM
CATEGORIES:HOA events
URL;VALUE=URI:https://encorebriarchapel.com/mc-events/social-committee-meet
 ing/?mc_id=1473
METHOD:PUBLISH
END:VEVENT
END:VCALENDAR