BEGIN:VCALENDAR
VERSION:2.0
PRODID:spatie/icalendar-generator
DESCRIPTION:Events from Encore Briar Chapel
X-WR-CALDESC:Events from Encore Briar Chapel
REFRESH-INTERVAL;VALUE=DURATION:PT1440M
X-PUBLISHED-TTL:PT1440M
BEGIN:VTIMEZONE
TZID:America/New_York
BEGIN:STANDARD
DTSTART:20231105T020000Z
TZOFFSETFROM:-0400
TZOFFSETTO:-0500
END:STANDARD
BEGIN:DAYLIGHT
DTSTART:20240310T020000Z
TZOFFSETFROM:-0500
TZOFFSETTO:-0400
END:DAYLIGHT
END:VTIMEZONE
BEGIN:VTIMEZONE
TZID:UTC
BEGIN:STANDARD
DTSTART:20250726T184044Z
TZOFFSETFROM:+0000
TZOFFSETTO:+0000
END:STANDARD
END:VTIMEZONE
BEGIN:VEVENT
UID:1709-218
DTSTAMP:20260422T184044Z
SUMMARY:Strength Training with Daniela Sever
LOCATION:
ORGANIZER;CN=karenpullen:MAILTO:karen@karenpullen.com
DTSTART;TZID=America/New_York:20240402T100000
DTEND;TZID=America/New_York:20240402T110000
X-ALT-DESC;FMTTYPE=TEXT/HTML:<p>The April session is $48.00.<br />\nAny que
 stions and to register \, email 4dsever@gmail.com</p>\n
CATEGORIES:Exercise
URL;VALUE=URI:https://encorebriarchapel.com/mc-events/strength-training-wit
 h-daniela-sever/
METHOD:PUBLISH
END:VEVENT
END:VCALENDAR