BEGIN:VCALENDAR
VERSION:2.0
PRODID:spatie/icalendar-generator
DESCRIPTION:Events from Encore Briar Chapel
X-WR-CALDESC:Events from Encore Briar Chapel
REFRESH-INTERVAL;VALUE=DURATION:PT1440M
X-PUBLISHED-TTL:PT1440M
BEGIN:VTIMEZONE
TZID:America/New_York
BEGIN:STANDARD
DTSTART:20241103T020000Z
TZOFFSETFROM:-0400
TZOFFSETTO:-0500
END:STANDARD
BEGIN:DAYLIGHT
DTSTART:20250309T020000Z
TZOFFSETFROM:-0500
TZOFFSETTO:-0400
END:DAYLIGHT
END:VTIMEZONE
BEGIN:VTIMEZONE
TZID:UTC
BEGIN:STANDARD
DTSTART:20250724T205437Z
TZOFFSETFROM:+0000
TZOFFSETTO:+0000
END:STANDARD
END:VTIMEZONE
BEGIN:VEVENT
UID:3518-301
DTSTAMP:20260420T205437Z
SUMMARY:Coffee Social &amp;amp\; Coffee Cake
LOCATION:
ORGANIZER;CN=Gloria Mock:MAILTO:gloriam@kuester.com
DTSTART;TZID=America/New_York:20250405T100000
DTEND;TZID=America/New_York:20250405T113000
X-ALT-DESC;FMTTYPE=TEXT/HTML:<p>Join your neighbors to honor National Coffe
 e Cake Day!</p>\n
CATEGORIES:Events
URL;VALUE=URI:https://encorebriarchapel.com/mc-events/coffee-social-coffee-
 cake/
METHOD:PUBLISH
END:VEVENT
END:VCALENDAR