BEGIN:VCALENDAR
VERSION:2.0
PRODID:spatie/icalendar-generator
DESCRIPTION:Events from Encore Briar Chapel
X-WR-CALDESC:Events from Encore Briar Chapel
REFRESH-INTERVAL;VALUE=DURATION:PT1440M
X-PUBLISHED-TTL:PT1440M
BEGIN:VTIMEZONE
TZID:America/New_York
BEGIN:STANDARD
DTSTART:20241103T020000Z
TZOFFSETFROM:-0400
TZOFFSETTO:-0500
END:STANDARD
BEGIN:DAYLIGHT
DTSTART:20250309T020000Z
TZOFFSETFROM:-0500
TZOFFSETTO:-0400
END:DAYLIGHT
BEGIN:STANDARD
DTSTART:20251102T020000Z
TZOFFSETFROM:-0400
TZOFFSETTO:-0500
END:STANDARD
END:VTIMEZONE
BEGIN:VTIMEZONE
TZID:UTC
BEGIN:STANDARD
DTSTART:20250726T051626Z
TZOFFSETFROM:+0000
TZOFFSETTO:+0000
END:STANDARD
END:VTIMEZONE
BEGIN:VEVENT
UID:3556-315
DTSTAMP:20260422T051626Z
SUMMARY:Pool Opens
LOCATION:
ORGANIZER;CN=karenpullen:MAILTO:karen@karenpullen.com
DTSTART;TZID=America/New_York:20250510T061400
DTEND;TZID=America/New_York:20250510T071400
X-ALT-DESC;FMTTYPE=TEXT/HTML:The Encore pool is open sunrise-sunset\, May 1
 0 to Sept 28. See Pool Guidelines.
CATEGORIES:HOA events
URL;VALUE=URI:https://encorebriarchapel.com/mc-events/pool-opens-2/
METHOD:PUBLISH
END:VEVENT
END:VCALENDAR