BEGIN:VCALENDAR
VERSION:2.0
PRODID:spatie/icalendar-generator
DESCRIPTION:Events from Encore Briar Chapel
X-WR-CALDESC:Events from Encore Briar Chapel
REFRESH-INTERVAL;VALUE=DURATION:PT1440M
X-PUBLISHED-TTL:PT1440M
BEGIN:VTIMEZONE
TZID:America/New_York
BEGIN:STANDARD
DTSTART:20241103T020000Z
TZOFFSETFROM:-0400
TZOFFSETTO:-0500
END:STANDARD
BEGIN:DAYLIGHT
DTSTART:20250309T020000Z
TZOFFSETFROM:-0500
TZOFFSETTO:-0400
END:DAYLIGHT
BEGIN:STANDARD
DTSTART:20251102T020000Z
TZOFFSETFROM:-0400
TZOFFSETTO:-0500
END:STANDARD
END:VTIMEZONE
BEGIN:VTIMEZONE
TZID:UTC
BEGIN:STANDARD
DTSTART:20250726T081116Z
TZOFFSETFROM:+0000
TZOFFSETTO:+0000
END:STANDARD
END:VTIMEZONE
BEGIN:VEVENT
UID:3558-317
DTSTAMP:20260422T081116Z
SUMMARY:Navigating the Encore Website with your cell phone
LOCATION:
ORGANIZER;CN=Gloria Mock:MAILTO:gloriam@kuester.com
DTSTART;TZID=America/New_York:20250509T103000
DTEND;TZID=America/New_York:20250509T113000
X-ALT-DESC;FMTTYPE=TEXT/HTML:<p>How do I do that! How do I do that! Website
  mobile phone training session with Janet Anderson &amp;amp\; Mary Richbourg.</p>\n
CATEGORIES:Educational
URL;VALUE=URI:https://encorebriarchapel.com/mc-events/navigating-the-encore
 -website-with-your-cell-phone/
METHOD:PUBLISH
END:VEVENT
END:VCALENDAR