BEGIN:VCALENDAR
VERSION:2.0
PRODID:spatie/icalendar-generator
DESCRIPTION:Events from Encore Briar Chapel
X-WR-CALDESC:Events from Encore Briar Chapel
REFRESH-INTERVAL;VALUE=DURATION:PT1440M
X-PUBLISHED-TTL:PT1440M
BEGIN:VTIMEZONE
TZID:America/New_York
BEGIN:DAYLIGHT
DTSTART:20230312T020000Z
TZOFFSETFROM:-0500
TZOFFSETTO:-0400
END:DAYLIGHT
BEGIN:STANDARD
DTSTART:20231105T020000Z
TZOFFSETFROM:-0400
TZOFFSETTO:-0500
END:STANDARD
BEGIN:DAYLIGHT
DTSTART:20240310T020000Z
TZOFFSETFROM:-0500
TZOFFSETTO:-0400
END:DAYLIGHT
END:VTIMEZONE
BEGIN:VTIMEZONE
TZID:UTC
BEGIN:STANDARD
DTSTART:20250726T104809Z
TZOFFSETFROM:+0000
TZOFFSETTO:+0000
END:STANDARD
END:VTIMEZONE
BEGIN:VEVENT
UID:966-171
DTSTAMP:20260422T104809Z
SUMMARY:Resident Meeting Bylaws Vote
LOCATION:
ORGANIZER;CN=karenpullen:MAILTO:karen@karenpullen.com
DTSTART;TZID=America/New_York:20231019T180000
DTEND;TZID=America/New_York:20231019T190000
X-ALT-DESC;FMTTYPE=TEXT/HTML:<p>A ballot vote will be held to approve the A
 mended and Restated Bylaws. Residents have received paper copies.</p>\n
CATEGORIES:HOA events
URL;VALUE=URI:https://encorebriarchapel.com/mc-events/resident-meeting-byla
 ws-vote/
METHOD:PUBLISH
END:VEVENT
END:VCALENDAR