BEGIN:VCALENDAR
VERSION:2.0
PRODID:spatie/icalendar-generator
DESCRIPTION:Events from Encore Briar Chapel
X-WR-CALDESC:Events from Encore Briar Chapel
REFRESH-INTERVAL;VALUE=DURATION:PT1440M
X-PUBLISHED-TTL:PT1440M
BEGIN:VTIMEZONE
TZID:America/New_York
BEGIN:DAYLIGHT
DTSTART:20240310T020000Z
TZOFFSETFROM:-0500
TZOFFSETTO:-0400
END:DAYLIGHT
BEGIN:STANDARD
DTSTART:20241103T020000Z
TZOFFSETFROM:-0400
TZOFFSETTO:-0500
END:STANDARD
BEGIN:DAYLIGHT
DTSTART:20250309T020000Z
TZOFFSETFROM:-0500
TZOFFSETTO:-0400
END:DAYLIGHT
END:VTIMEZONE
BEGIN:VTIMEZONE
TZID:UTC
BEGIN:STANDARD
DTSTART:20250724T090512Z
TZOFFSETFROM:+0000
TZOFFSETTO:+0000
END:STANDARD
END:VTIMEZONE
BEGIN:VEVENT
UID:1290-124
DTSTAMP:20260420T090512Z
SUMMARY:Pinochle
LOCATION:
ORGANIZER;CN=karenpullen:MAILTO:karen@karenpullen.com
RRULE:FREQ=WEEKLY;UNTIL=20241031T000000Z
DTSTART;TZID=America/New_York:20241024T183000
DTEND;TZID=America/New_York:20241024T193000
X-ALT-DESC;FMTTYPE=TEXT/HTML:<p>group game that meets in the clubhouse. Con
 tact Stan Kahn.</p>\n
CATEGORIES:Cards and Games
URL;VALUE=URI:https://encorebriarchapel.com/mc-events/pinochle/?mc_id=1290
METHOD:PUBLISH
END:VEVENT
END:VCALENDAR