BEGIN:VCALENDAR
VERSION:2.0
PRODID:spatie/icalendar-generator
DESCRIPTION:Events from Encore Briar Chapel
X-WR-CALDESC:Events from Encore Briar Chapel
REFRESH-INTERVAL;VALUE=DURATION:PT1440M
X-PUBLISHED-TTL:PT1440M
BEGIN:VTIMEZONE
TZID:America/New_York
BEGIN:STANDARD
DTSTART:20231105T020000Z
TZOFFSETFROM:-0400
TZOFFSETTO:-0500
END:STANDARD
BEGIN:DAYLIGHT
DTSTART:20240310T020000Z
TZOFFSETFROM:-0500
TZOFFSETTO:-0400
END:DAYLIGHT
END:VTIMEZONE
BEGIN:VTIMEZONE
TZID:UTC
BEGIN:STANDARD
DTSTART:20250726T102157Z
TZOFFSETFROM:+0000
TZOFFSETTO:+0000
END:STANDARD
END:VTIMEZONE
BEGIN:VEVENT
UID:1685-197
DTSTAMP:20260422T102157Z
SUMMARY:Zumba Gold with Beth
LOCATION:
ORGANIZER;CN=karenpullen:MAILTO:karen@karenpullen.com
RRULE:FREQ=WEEKLY;UNTIL=20240315T000000Z
DTSTART;TZID=America/New_York:20240329T103000
DTEND;TZID=America/New_York:20240329T113000
X-ALT-DESC;FMTTYPE=TEXT/HTML:<p>Contact Pat Lewis to register.</p>\n
CATEGORIES:Exercise
URL;VALUE=URI:https://encorebriarchapel.com/mc-events/zumba-gold-with-beth/
 ?mc_id=1685
METHOD:PUBLISH
END:VEVENT
END:VCALENDAR