BEGIN:VCALENDAR
VERSION:2.0
PRODID:spatie/icalendar-generator
DESCRIPTION:Events from Encore Briar Chapel
X-WR-CALDESC:Events from Encore Briar Chapel
REFRESH-INTERVAL;VALUE=DURATION:PT1440M
X-PUBLISHED-TTL:PT1440M
BEGIN:VTIMEZONE
TZID:America/New_York
BEGIN:DAYLIGHT
DTSTART:20240310T020000Z
TZOFFSETFROM:-0500
TZOFFSETTO:-0400
END:DAYLIGHT
BEGIN:STANDARD
DTSTART:20241103T020000Z
TZOFFSETFROM:-0400
TZOFFSETTO:-0500
END:STANDARD
BEGIN:DAYLIGHT
DTSTART:20250309T020000Z
TZOFFSETFROM:-0500
TZOFFSETTO:-0400
END:DAYLIGHT
END:VTIMEZONE
BEGIN:VTIMEZONE
TZID:UTC
BEGIN:STANDARD
DTSTART:20250726T195453Z
TZOFFSETFROM:+0000
TZOFFSETTO:+0000
END:STANDARD
END:VTIMEZONE
BEGIN:VEVENT
UID:1873-269
DTSTAMP:20260422T195453Z
SUMMARY:Board Information Meeting
LOCATION:
ORGANIZER;CN=karenpullen:MAILTO:karen@karenpullen.com
DTSTART;TZID=America/New_York:20240911T100000
DTEND;TZID=America/New_York:20240911T110000
X-ALT-DESC;FMTTYPE=TEXT/HTML:Your Board of Directors invites you to learn m
 ore about becoming a member of the Board. There will soon be 3 vacancies o
 n the Board\, with elections being held November 6-8 with the annual meeti
 ng on November 14th. This is your opportunity to be a part of the decision
 -making process and influence the quality of&amp;hellip\;
CATEGORIES:HOA events
URL;VALUE=URI:https://encorebriarchapel.com/mc-events/board-information-mee
 ting/
METHOD:PUBLISH
END:VEVENT
END:VCALENDAR