BEGIN:VCALENDAR
VERSION:2.0
PRODID:spatie/icalendar-generator
DESCRIPTION:Events from Encore Briar Chapel
X-WR-CALDESC:Events from Encore Briar Chapel
REFRESH-INTERVAL;VALUE=DURATION:PT1440M
X-PUBLISHED-TTL:PT1440M
BEGIN:VTIMEZONE
TZID:America/New_York
BEGIN:STANDARD
DTSTART:20241103T020000Z
TZOFFSETFROM:-0400
TZOFFSETTO:-0500
END:STANDARD
BEGIN:DAYLIGHT
DTSTART:20250309T020000Z
TZOFFSETFROM:-0500
TZOFFSETTO:-0400
END:DAYLIGHT
END:VTIMEZONE
BEGIN:VTIMEZONE
TZID:UTC
BEGIN:STANDARD
DTSTART:20250729T042257Z
TZOFFSETFROM:+0000
TZOFFSETTO:+0000
END:STANDARD
END:VTIMEZONE
BEGIN:VEVENT
UID:3127-289
DTSTAMP:20260425T042257Z
SUMMARY:Lunch &amp;amp\; Learn: Cruise &amp;amp\; Vacation Planners
LOCATION:
ORGANIZER;CN=Gloria Mock:MAILTO:gloriam@kuester.com
DTSTART;TZID=America/New_York:20250416T120000
DTEND;TZID=America/New_York:20250416T130000
X-ALT-DESC;FMTTYPE=TEXT/HTML:<p>Presented by Cruise Planners. Topics: River
  Cruising\, Train Travel\, Exotic Destinations\, Solo Travel and Group Adv
 enture. Limited seating. For topics and signup click \"read more.\"</p>\n
CATEGORIES:Educational
URL;VALUE=URI:https://encorebriarchapel.com/mc-events/lunch-learn-cruise-va
 cation-planners/
METHOD:PUBLISH
END:VEVENT
END:VCALENDAR