BEGIN:VCALENDAR
VERSION:2.0
PRODID:spatie/icalendar-generator
DESCRIPTION:Events from Encore Briar Chapel
X-WR-CALDESC:Events from Encore Briar Chapel
REFRESH-INTERVAL;VALUE=DURATION:PT1440M
X-PUBLISHED-TTL:PT1440M
BEGIN:VTIMEZONE
TZID:America/New_York
BEGIN:STANDARD
DTSTART:20241103T020000Z
TZOFFSETFROM:-0400
TZOFFSETTO:-0500
END:STANDARD
BEGIN:DAYLIGHT
DTSTART:20250309T020000Z
TZOFFSETFROM:-0500
TZOFFSETTO:-0400
END:DAYLIGHT
END:VTIMEZONE
BEGIN:VTIMEZONE
TZID:UTC
BEGIN:STANDARD
DTSTART:20250726T114134Z
TZOFFSETFROM:+0000
TZOFFSETTO:+0000
END:STANDARD
END:VTIMEZONE
BEGIN:VEVENT
UID:3129-291
DTSTAMP:20260422T114134Z
SUMMARY:EMS Defibrillator\, CPR + Chatham Fire Dept Demos
LOCATION:
ORGANIZER;CN=Gloria Mock:MAILTO:gloriam@kuester.com
DTSTART;TZID=America/New_York:20250409T140000
DTEND;TZID=America/New_York:20250409T150000
X-ALT-DESC;FMTTYPE=TEXT/HTML:<p>Part I: FirstHealth of the Carolinas EMS\, 
 Paramedic Training Officer Demonstration of defibrillator\, CPR\, American
  Heart Association initiatives\, response for out-of-hospital cardiac arre
 sts.<br />\nPart II: North Chatham Fire Dept describes their services and 
 gives us hands-on training for fire extinguishers.</p>\n
CATEGORIES:Educational
URL;VALUE=URI:https://encorebriarchapel.com/mc-events/ems-defibrillator-cpr
 -chatham-fire-dept-demos/
METHOD:PUBLISH
END:VEVENT
END:VCALENDAR