BEGIN:VCALENDAR
VERSION:2.0
PRODID:spatie/icalendar-generator
DESCRIPTION:Events from Encore Briar Chapel
X-WR-CALDESC:Events from Encore Briar Chapel
REFRESH-INTERVAL;VALUE=DURATION:PT1440M
X-PUBLISHED-TTL:PT1440M
BEGIN:VTIMEZONE
TZID:America/New_York
BEGIN:STANDARD
DTSTART:20241103T020000Z
TZOFFSETFROM:-0400
TZOFFSETTO:-0500
END:STANDARD
BEGIN:DAYLIGHT
DTSTART:20250309T020000Z
TZOFFSETFROM:-0500
TZOFFSETTO:-0400
END:DAYLIGHT
BEGIN:STANDARD
DTSTART:20251102T020000Z
TZOFFSETFROM:-0400
TZOFFSETTO:-0500
END:STANDARD
END:VTIMEZONE
BEGIN:VTIMEZONE
TZID:UTC
BEGIN:STANDARD
DTSTART:20250725T033452Z
TZOFFSETFROM:+0000
TZOFFSETTO:+0000
END:STANDARD
END:VTIMEZONE
BEGIN:VEVENT
UID:3132-294
DTSTAMP:20260421T033452Z
SUMMARY:Homewatch Aging in Place
LOCATION:
ORGANIZER;CN=Gloria Mock:MAILTO:gloriam@kuester.com
DTSTART;TZID=America/New_York:20250506T113000
DTEND;TZID=America/New_York:20250506T123000
X-ALT-DESC;FMTTYPE=TEXT/HTML:<p>Info and lunch presented by Homewatch. Matt
  and Stacey are back with a panel of healthcare professionals to answer yo
 ur questions about home care\, long-term care insurance\, and assisted liv
 ing facilities. Their in-home support for seniors includes running errands
 \, after-surgery and chronic condition assistance\, family caregiver suppo
 rt\, light housekeeping.</p>\n
CATEGORIES:Educational
URL;VALUE=URI:https://encorebriarchapel.com/mc-events/homewatch-aging-in-pl
 ace/
METHOD:PUBLISH
END:VEVENT
END:VCALENDAR