BEGIN:VCALENDAR
VERSION:2.0
PRODID:spatie/icalendar-generator
DESCRIPTION:Events from Encore Briar Chapel
X-WR-CALDESC:Events from Encore Briar Chapel
REFRESH-INTERVAL;VALUE=DURATION:PT1440M
X-PUBLISHED-TTL:PT1440M
BEGIN:VTIMEZONE
TZID:America/New_York
BEGIN:STANDARD
DTSTART:20241103T020000Z
TZOFFSETFROM:-0400
TZOFFSETTO:-0500
END:STANDARD
BEGIN:DAYLIGHT
DTSTART:20250309T020000Z
TZOFFSETFROM:-0500
TZOFFSETTO:-0400
END:DAYLIGHT
END:VTIMEZONE
BEGIN:VTIMEZONE
TZID:UTC
BEGIN:STANDARD
DTSTART:20250728T195909Z
TZOFFSETFROM:+0000
TZOFFSETTO:+0000
END:STANDARD
END:VTIMEZONE
BEGIN:VEVENT
UID:3517-300
DTSTAMP:20260424T195909Z
SUMMARY:Spring Fling Happy Hour
LOCATION:
ORGANIZER;CN=Gloria Mock:MAILTO:gloriam@kuester.com
DTSTART;TZID=America/New_York:20250425T160000
DTEND;TZID=America/New_York:20250425T180000
X-ALT-DESC;FMTTYPE=TEXT/HTML:<p>Enjoy appetizers from Mel's Commissary\, li
 ve music\, drinks. Featuring Kris Whitenack on the keys.</p>\n
CATEGORIES:Events
URL;VALUE=URI:https://encorebriarchapel.com/mc-events/spring-fling-happy-ho
 ur/
METHOD:PUBLISH
END:VEVENT
END:VCALENDAR