BEGIN:VCALENDAR
VERSION:2.0
PRODID:spatie/icalendar-generator
DESCRIPTION:Events from Encore Briar Chapel
X-WR-CALDESC:Events from Encore Briar Chapel
REFRESH-INTERVAL;VALUE=DURATION:PT1440M
X-PUBLISHED-TTL:PT1440M
BEGIN:VTIMEZONE
TZID:America/New_York
BEGIN:STANDARD
DTSTART:20241103T020000Z
TZOFFSETFROM:-0400
TZOFFSETTO:-0500
END:STANDARD
BEGIN:DAYLIGHT
DTSTART:20250309T020000Z
TZOFFSETFROM:-0500
TZOFFSETTO:-0400
END:DAYLIGHT
END:VTIMEZONE
BEGIN:VTIMEZONE
TZID:UTC
BEGIN:STANDARD
DTSTART:20250728T122746Z
TZOFFSETFROM:+0000
TZOFFSETTO:+0000
END:STANDARD
END:VTIMEZONE
BEGIN:VEVENT
UID:3554-314
DTSTAMP:20260424T122746Z
SUMMARY:Open Board Meeting
LOCATION:
ORGANIZER;CN=karenpullen:MAILTO:karen@karenpullen.com
DTSTART;TZID=America/New_York:20250428T160000
DTEND;TZID=America/New_York:20250428T170000
X-ALT-DESC;FMTTYPE=TEXT/HTML:<p>Community-wide meeting</p>\n
CATEGORIES:HOA events
URL;VALUE=URI:https://encorebriarchapel.com/mc-events/open-board-meeting/
METHOD:PUBLISH
END:VEVENT
END:VCALENDAR