BEGIN:VCALENDAR
VERSION:2.0
PRODID:spatie/icalendar-generator
DESCRIPTION:Events from Encore Briar Chapel
X-WR-CALDESC:Events from Encore Briar Chapel
REFRESH-INTERVAL;VALUE=DURATION:PT1440M
X-PUBLISHED-TTL:PT1440M
BEGIN:VTIMEZONE
TZID:America/New_York
BEGIN:STANDARD
DTSTART:20241103T020000Z
TZOFFSETFROM:-0400
TZOFFSETTO:-0500
END:STANDARD
BEGIN:DAYLIGHT
DTSTART:20250309T020000Z
TZOFFSETFROM:-0500
TZOFFSETTO:-0400
END:DAYLIGHT
BEGIN:STANDARD
DTSTART:20251102T020000Z
TZOFFSETFROM:-0400
TZOFFSETTO:-0500
END:STANDARD
END:VTIMEZONE
BEGIN:VTIMEZONE
TZID:UTC
BEGIN:STANDARD
DTSTART:20250725T003112Z
TZOFFSETFROM:+0000
TZOFFSETTO:+0000
END:STANDARD
END:VTIMEZONE
BEGIN:VEVENT
UID:3682-322
DTSTAMP:20260421T003112Z
SUMMARY:Learn to play Mahjong
LOCATION:
ORGANIZER;CN=Gloria Mock:MAILTO:gloriam@kuester.com
RRULE:FREQ=WEEKLY;UNTIL=20250520T000000Z
DTSTART;TZID=America/New_York:20250519T150000
DTEND;TZID=America/New_York:20250519T170000
X-ALT-DESC;FMTTYPE=TEXT/HTML:<p>Interested in learning to play? Jane Hamilt
 on is offering complementary sessions. Contact: hamiltonj6146@gmail.com\; 
 919-691-2482</p>\n
CATEGORIES:Educational
URL;VALUE=URI:https://encorebriarchapel.com/mc-events/learn-to-play-mahjong
 /?mc_id=3682
METHOD:PUBLISH
END:VEVENT
END:VCALENDAR