BEGIN:VCALENDAR
VERSION:2.0
PRODID:spatie/icalendar-generator
DESCRIPTION:Events from Encore Briar Chapel
X-WR-CALDESC:Events from Encore Briar Chapel
REFRESH-INTERVAL;VALUE=DURATION:PT1440M
X-PUBLISHED-TTL:PT1440M
BEGIN:VTIMEZONE
TZID:America/New_York
BEGIN:STANDARD
DTSTART:20241103T020000Z
TZOFFSETFROM:-0400
TZOFFSETTO:-0500
END:STANDARD
BEGIN:DAYLIGHT
DTSTART:20250309T020000Z
TZOFFSETFROM:-0500
TZOFFSETTO:-0400
END:DAYLIGHT
BEGIN:STANDARD
DTSTART:20251102T020000Z
TZOFFSETFROM:-0400
TZOFFSETTO:-0500
END:STANDARD
END:VTIMEZONE
BEGIN:VTIMEZONE
TZID:UTC
BEGIN:STANDARD
DTSTART:20250726T005727Z
TZOFFSETFROM:+0000
TZOFFSETTO:+0000
END:STANDARD
END:VTIMEZONE
BEGIN:VEVENT
UID:4460-328
DTSTAMP:20260422T005727Z
SUMMARY:Yoga
LOCATION:
ORGANIZER;CN=Gloria Mock:MAILTO:gloriam@kuester.com
DTSTART;TZID=America/New_York:20250605T103000
DTEND;TZID=America/New_York:20250605T113000
X-ALT-DESC;FMTTYPE=TEXT/HTML:<p>To sign up and for more info contact Nicole
  Ryan: niknchas@aol.com</p>\n
CATEGORIES:Exercise
URL;VALUE=URI:https://encorebriarchapel.com/mc-events/yoga-2/
METHOD:PUBLISH
END:VEVENT
END:VCALENDAR